BEGIN:VCALENDAR
VERSION:2.0
PRODID:-//Benniksgaard Golf - ECPv6.15.20//NONSGML v1.0//EN
CALSCALE:GREGORIAN
METHOD:PUBLISH
X-WR-CALNAME:Benniksgaard Golf
X-ORIGINAL-URL:https://www.benniksgaardgolf.dk
X-WR-CALDESC:Begivenheder for Benniksgaard Golf
REFRESH-INTERVAL;VALUE=DURATION:PT1H
X-Robots-Tag:noindex
X-PUBLISHED-TTL:PT1H
BEGIN:VTIMEZONE
TZID:UTC
BEGIN:STANDARD
TZOFFSETFROM:+0000
TZOFFSETTO:+0000
TZNAME:UTC
DTSTART:20250101T000000
END:STANDARD
END:VTIMEZONE
BEGIN:VEVENT
DTSTART;TZID=UTC:20260911T100000
DTEND;TZID=UTC:20260911T210000
DTSTAMP:20260421T143421
CREATED:20260104T134310Z
LAST-MODIFIED:20260420T093535Z
UID:15251-1789120800-1789160400@www.benniksgaardgolf.dk
SUMMARY:Benniksgaard Classic (lukket event)
DESCRIPTION:TILMELDING >>> \n 
URL:https://www.benniksgaardgolf.dk/kalender/benniksgaard-classic/
LOCATION:Benniksgaard Golf Klub\, Sejrsvej 109\, Graasten\, Syddanmark\, 6300\, Danmark
CATEGORIES:Klubturneringer
ATTACH;FMTTYPE=image/jpeg:https://www.benniksgaardgolf.dk/wp-content/uploads/2025/02/BGK-Classic-event-cover.jpg
END:VEVENT
BEGIN:VEVENT
DTSTART;TZID=UTC:20260927T080000
DTEND;TZID=UTC:20260927T113000
DTSTAMP:20260421T143421
CREATED:20260218T130803Z
LAST-MODIFIED:20260420T101936Z
UID:15269-1790496000-1790508600@www.benniksgaardgolf.dk
SUMMARY:Ællingeafslutning
DESCRIPTION:Ællingernes Afslutningsturnering. \nTurneringen er en lukket turnering for medlemmer af Benniksgaard Golf Klub. \nTILMELDING >>
URL:https://www.benniksgaardgolf.dk/kalender/aellingeafslutning/
LOCATION:Benniksgaard Golf Klub\, Sejrsvej 109\, Graasten\, Syddanmark\, 6300\, Danmark
CATEGORIES:Klubturneringer
ATTACH;FMTTYPE=image/jpeg:https://www.benniksgaardgolf.dk/wp-content/uploads/2024/01/Aellingeafslutning.jpg
END:VEVENT
END:VCALENDAR