BEGIN:VCALENDAR
VERSION:2.0
PRODID:-//Benniksgaard Golf - ECPv6.15.20//NONSGML v1.0//EN
CALSCALE:GREGORIAN
METHOD:PUBLISH
X-ORIGINAL-URL:https://www.benniksgaardgolf.dk
X-WR-CALDESC:Begivenheder for Benniksgaard Golf
REFRESH-INTERVAL;VALUE=DURATION:PT1H
X-Robots-Tag:noindex
X-PUBLISHED-TTL:PT1H
BEGIN:VTIMEZONE
TZID:UTC
BEGIN:STANDARD
TZOFFSETFROM:+0000
TZOFFSETTO:+0000
TZNAME:UTC
DTSTART:20250101T000000
END:STANDARD
END:VTIMEZONE
BEGIN:VEVENT
DTSTART;TZID=UTC:20260829T080000
DTEND;TZID=UTC:20260829T110000
DTSTAMP:20260421T124220
CREATED:20260218T141244Z
LAST-MODIFIED:20260420T100731Z
UID:15258-1787990400-1788001200@www.benniksgaardgolf.dk
SUMMARY:Klubmesterskab
DESCRIPTION:Benniksgaard Klubmesterskab \nTILMELDING >>
URL:https://www.benniksgaardgolf.dk/kalender/klubmesterskab/
LOCATION:Benniksgaard Golf Klub\, Sejrsvej 109\, Graasten\, Syddanmark\, 6300\, Danmark
CATEGORIES:Klubturneringer
ATTACH;FMTTYPE=image/jpeg:https://www.benniksgaardgolf.dk/wp-content/uploads/2025/02/BGK-Klubmesterskab-event-cover.jpg
END:VEVENT
END:VCALENDAR