BEGIN:VCALENDAR
VERSION:2.0
PRODID:-//Benniksgaard Golf - ECPv6.15.20//NONSGML v1.0//EN
CALSCALE:GREGORIAN
METHOD:PUBLISH
X-ORIGINAL-URL:https://www.benniksgaardgolf.dk
X-WR-CALDESC:Begivenheder for Benniksgaard Golf
REFRESH-INTERVAL;VALUE=DURATION:PT1H
X-Robots-Tag:noindex
X-PUBLISHED-TTL:PT1H
BEGIN:VTIMEZONE
TZID:UTC
BEGIN:STANDARD
TZOFFSETFROM:+0000
TZOFFSETTO:+0000
TZNAME:UTC
DTSTART:20220101T000000
END:STANDARD
END:VTIMEZONE
BEGIN:VEVENT
DTSTART;TZID=UTC:20230428T163000
DTEND;TZID=UTC:20230428T193000
DTSTAMP:20260425T195415
CREATED:20211104T114813Z
LAST-MODIFIED:20230315T090824Z
UID:15223-1682699400-1682710200@www.benniksgaardgolf.dk
SUMMARY:Fredagsgolf 9 huller
DESCRIPTION:Fredagsgolf på Benniksgaard \nTILMELDING >>
URL:https://www.benniksgaardgolf.dk/kalender/ecco-days/
LOCATION:Benniksgaard Golf Klub\, Sejrsvej 109\, Graasten\, Syddanmark\, 6300\, Danmark
CATEGORIES:Klubturneringer
END:VEVENT
END:VCALENDAR