BEGIN:VCALENDAR
VERSION:2.0
PRODID:-//Benniksgaard Golf - ECPv6.15.20//NONSGML v1.0//EN
CALSCALE:GREGORIAN
METHOD:PUBLISH
X-ORIGINAL-URL:https://www.benniksgaardgolf.dk
X-WR-CALDESC:Begivenheder for Benniksgaard Golf
REFRESH-INTERVAL;VALUE=DURATION:PT1H
X-Robots-Tag:noindex
X-PUBLISHED-TTL:PT1H
BEGIN:VTIMEZONE
TZID:UTC
BEGIN:STANDARD
TZOFFSETFROM:+0000
TZOFFSETTO:+0000
TZNAME:UTC
DTSTART:20250101T000000
END:STANDARD
END:VTIMEZONE
BEGIN:VEVENT
DTSTART;TZID=UTC:20260904T090000
DTEND;TZID=UTC:20260904T140000
DTSTAMP:20260421T173123
CREATED:20260419T140914Z
LAST-MODIFIED:20260420T085925Z
UID:15255-1788512400-1788530400@www.benniksgaardgolf.dk
SUMMARY:Company Day BHJ/Essentia (lukket event)
DESCRIPTION:
URL:https://www.benniksgaardgolf.dk/kalender/company-day-bhj-essentia/
LOCATION:Benniksgaard Golf Klub\, Sejrsvej 109\, Graasten\, Syddanmark\, 6300\, Danmark
CATEGORIES:Company Day
ATTACH;FMTTYPE=image/jpeg:https://www.benniksgaardgolf.dk/wp-content/uploads/2021/11/BHJ-company-day-e1636034912403.jpg
END:VEVENT
END:VCALENDAR