BEGIN:VCALENDAR
VERSION:2.0
PRODID:-//Benniksgaard Golf - ECPv6.15.20//NONSGML v1.0//EN
CALSCALE:GREGORIAN
METHOD:PUBLISH
X-ORIGINAL-URL:https://www.benniksgaardgolf.dk
X-WR-CALDESC:Begivenheder for Benniksgaard Golf
REFRESH-INTERVAL;VALUE=DURATION:PT1H
X-Robots-Tag:noindex
X-PUBLISHED-TTL:PT1H
BEGIN:VTIMEZONE
TZID:UTC
BEGIN:STANDARD
TZOFFSETFROM:+0000
TZOFFSETTO:+0000
TZNAME:UTC
DTSTART:20240101T000000
END:STANDARD
END:VTIMEZONE
BEGIN:VEVENT
DTSTART;TZID=UTC:20251005T090000
DTEND;TZID=UTC:20251005T170000
DTSTAMP:20260422T045439
CREATED:20250204T130655Z
LAST-MODIFIED:20250213T102714Z
UID:15274-1759654800-1759683600@www.benniksgaardgolf.dk
SUMMARY:Sønderjysk Mesterskab
DESCRIPTION:
URL:https://www.benniksgaardgolf.dk/kalender/soenderjysk-mesterskab/
LOCATION:Sønderborg Golfklub\, Gundstrup 2\, Sønderborg\, 6400\, Denmark
CATEGORIES:Andre turneringer
END:VEVENT
END:VCALENDAR